﻿BEGIN:VCALENDAR
VERSION:2.0
PRODID:-//FC Val Terbi - ECPv6.5.1.6//NONSGML v1.0//EN
CALSCALE:GREGORIAN
METHOD:PUBLISH
X-ORIGINAL-URL:http://www.fcvalterbi.ch
X-WR-CALDESC:évènements pour FC Val Terbi
REFRESH-INTERVAL;VALUE=DURATION:PT1H
X-Robots-Tag:noindex
X-PUBLISHED-TTL:PT1H
BEGIN:VTIMEZONE
TZID:Europe/Helsinki
BEGIN:DAYLIGHT
TZOFFSETFROM:+0200
TZOFFSETTO:+0300
TZNAME:EEST
DTSTART:20190331T010000
END:DAYLIGHT
BEGIN:STANDARD
TZOFFSETFROM:+0300
TZOFFSETTO:+0200
TZNAME:EET
DTSTART:20191027T010000
END:STANDARD
END:VTIMEZONE
BEGIN:VEVENT
DTSTART;TZID=Europe/Helsinki:20191114T200000
DTEND;TZID=Europe/Helsinki:20191114T200000
DTSTAMP:20260423T173804
CREATED:20191025T163217Z
LAST-MODIFIED:20191025T163217Z
UID:5315-1573761600-1573761600@www.fcvalterbi.ch
SUMMARY:Assemblée Générale
DESCRIPTION:
URL:http://www.fcvalterbi.ch/event/assemblee-generale/
LOCATION:Corban
END:VEVENT
END:VCALENDAR